BEGIN:VCALENDAR
VERSION:2.0
PRODID:-//Plone.org//NONSGML plone.app.event//EN
X-WR-TIMEZONE:US/Central
BEGIN:VEVENT
SUMMARY:Homeschool Heroes
DTSTART;TZID=US/Central:20260306T100000
DTEND;TZID=US/Central:20260306T110000
DTSTAMP:20260420T085831Z
UID:0973ebc2cd704d9c9d0da2c613cbd510@saas_stack_varnish:6080
CONTACT:Mrs. Pam\, 903-569-2767
CREATED:20250815T152959Z
DESCRIPTION:A chance for homeschool families to participate in an activity
  together and get to know other homeschool families in the area.
LAST-MODIFIED:20260416T163239Z
LOCATION:Mineola Memorial Library\; Meredith Room
URL:https://mineola.ploud.net/homeschool-heroes-1/2026-03-06
END:VEVENT
BEGIN:VTIMEZONE
TZID:US/Central
X-LIC-LOCATION:US/Central
BEGIN:STANDARD
DTSTART:20251102T010000
TZNAME:CST
TZOFFSETFROM:-0500
TZOFFSETTO:-0600
END:STANDARD
END:VTIMEZONE
END:VCALENDAR
